BEGIN:VCALENDAR
VERSION:2.0
PRODID:-//Toronto Baptist Seminary - ECPv6.15.20//NONSGML v1.0//EN
CALSCALE:GREGORIAN
METHOD:PUBLISH
X-WR-CALNAME:Toronto Baptist Seminary
X-ORIGINAL-URL:https://tbs.edu
X-WR-CALDESC:Events for Toronto Baptist Seminary
REFRESH-INTERVAL;VALUE=DURATION:PT1H
X-Robots-Tag:noindex
X-PUBLISHED-TTL:PT1H
BEGIN:VTIMEZONE
TZID:America/New_York
BEGIN:DAYLIGHT
TZOFFSETFROM:-0500
TZOFFSETTO:-0400
TZNAME:EDT
DTSTART:20220313T070000
END:DAYLIGHT
BEGIN:STANDARD
TZOFFSETFROM:-0400
TZOFFSETTO:-0500
TZNAME:EST
DTSTART:20221106T060000
END:STANDARD
BEGIN:DAYLIGHT
TZOFFSETFROM:-0500
TZOFFSETTO:-0400
TZNAME:EDT
DTSTART:20230312T070000
END:DAYLIGHT
BEGIN:STANDARD
TZOFFSETFROM:-0400
TZOFFSETTO:-0500
TZNAME:EST
DTSTART:20231105T060000
END:STANDARD
BEGIN:DAYLIGHT
TZOFFSETFROM:-0500
TZOFFSETTO:-0400
TZNAME:EDT
DTSTART:20240310T070000
END:DAYLIGHT
BEGIN:STANDARD
TZOFFSETFROM:-0400
TZOFFSETTO:-0500
TZNAME:EST
DTSTART:20241103T060000
END:STANDARD
END:VTIMEZONE
BEGIN:VEVENT
DTSTART;TZID=America/New_York:20231201T183000
DTEND;TZID=America/New_York:20231201T213000
DTSTAMP:20260424T132730
CREATED:20230316T163239Z
LAST-MODIFIED:20231017T212227Z
UID:3160-1701455400-1701466200@tbs.edu
SUMMARY:President's Christmas Banquet
DESCRIPTION:Join us for the President’s Christmas Banquet on December 1 at 6:30 p.m. at The Old Mill Toronto. Dr. Glendon Thompson will be speaking and sharing a devotional as well as his vision and long-term plans for the future. \nTickets are available here: President’s Christmas Banquet – CanadaHelps \nFor more information\, click here: President’s Christmas Banquet – Toronto Baptist Seminary (tbs.edu)
URL:https://tbs.edu/event/presidents-christmas-banquet-2/
ATTACH;FMTTYPE=image/jpeg:https://tbs.edu/wp-content/uploads/2023/03/2022.11.19-PresidentsDinner_DrThompson_Thumb-scaled.jpg
END:VEVENT
END:VCALENDAR