BEGIN:VCALENDAR
VERSION:2.0
PRODID:-//Toronto Baptist Seminary - ECPv6.15.20//NONSGML v1.0//EN
CALSCALE:GREGORIAN
METHOD:PUBLISH
X-WR-CALNAME:Toronto Baptist Seminary
X-ORIGINAL-URL:https://tbs.edu
X-WR-CALDESC:Events for Toronto Baptist Seminary
REFRESH-INTERVAL;VALUE=DURATION:PT1H
X-Robots-Tag:noindex
X-PUBLISHED-TTL:PT1H
BEGIN:VTIMEZONE
TZID:America/New_York
BEGIN:DAYLIGHT
TZOFFSETFROM:-0500
TZOFFSETTO:-0400
TZNAME:EDT
DTSTART:20220313T070000
END:DAYLIGHT
BEGIN:STANDARD
TZOFFSETFROM:-0400
TZOFFSETTO:-0500
TZNAME:EST
DTSTART:20221106T060000
END:STANDARD
BEGIN:DAYLIGHT
TZOFFSETFROM:-0500
TZOFFSETTO:-0400
TZNAME:EDT
DTSTART:20230312T070000
END:DAYLIGHT
BEGIN:STANDARD
TZOFFSETFROM:-0400
TZOFFSETTO:-0500
TZNAME:EST
DTSTART:20231105T060000
END:STANDARD
BEGIN:DAYLIGHT
TZOFFSETFROM:-0500
TZOFFSETTO:-0400
TZNAME:EDT
DTSTART:20240310T070000
END:DAYLIGHT
BEGIN:STANDARD
TZOFFSETFROM:-0400
TZOFFSETTO:-0500
TZNAME:EST
DTSTART:20241103T060000
END:STANDARD
END:VTIMEZONE
BEGIN:VEVENT
DTSTART;TZID=America/New_York:20230424T190000
DTEND;TZID=America/New_York:20230424T210000
DTSTAMP:20260422T215905
CREATED:20220616T212016Z
LAST-MODIFIED:20230214T212820Z
UID:1958-1682362800-1682370000@tbs.edu
SUMMARY:TBS Board of Trustees Meeting
DESCRIPTION:The TBS Board of Trustees meets four times per year on the last Monday of January\, April\, July\, and October.
URL:https://tbs.edu/event/tbs-board-of-trustees-meeting-4/
ATTACH;FMTTYPE=image/jpeg:https://tbs.edu/wp-content/uploads/2023/02/faculty-headshot-placeholder.jpg
END:VEVENT
BEGIN:VEVENT
DTSTART;TZID=America/New_York:20230430T183000
DTEND;TZID=America/New_York:20230430T203000
DTSTAMP:20260422T215905
CREATED:20221125T181413Z
LAST-MODIFIED:20230422T191703Z
UID:2160-1682879400-1682886600@tbs.edu
SUMMARY:Graduation
DESCRIPTION:Our Graduation service will be held on Sunday\, April 30th at 6:30 p.m. The service will be streamed on YouTube\, but we encourage you to come in person to worship with us. Our speaker is Dr. Barry Howson\, Academic Dean of Heritage College and Seminary. \nWatch the graduation ceremony live here: https://youtube.com/live/ss3rS-ZFM6w \n  \nDr. Barry Howson is the Academic Dean at Heritage College and Seminary. He graduated with a Master of Divinity from Central Baptist Seminary\, Toronto in 1984\, and in 2000 with his PhD in Church History at McGill University. He has been a professor at Heritage since 2001\, primarily teaching in the areas of theology\, NT Bible\, worldviews/apologetics and Church history. Since 1980 he has been involved in the local church as a youth pastor and lead pastor\, as well as an interim pastor\, helping churches in transition. He is currently the teaching pastor a Heritage Fellowship Baptist Church in Ancaster\, Ontario. He is married to Sharon\, and has two daughters\, Natalie and Shawna. \n  \n 
URL:https://tbs.edu/event/graduation/
ATTACH;FMTTYPE=image/jpeg:https://tbs.edu/wp-content/uploads/2022/11/TBS-Grad-Slide-2023-scaled.jpg
END:VEVENT
END:VCALENDAR