BEGIN:VCALENDAR
VERSION:2.0
PRODID:-//Toronto Baptist Seminary - ECPv6.15.20//NONSGML v1.0//EN
CALSCALE:GREGORIAN
METHOD:PUBLISH
X-WR-CALNAME:Toronto Baptist Seminary
X-ORIGINAL-URL:https://tbs.edu
X-WR-CALDESC:Events for Toronto Baptist Seminary
REFRESH-INTERVAL;VALUE=DURATION:PT1H
X-Robots-Tag:noindex
X-PUBLISHED-TTL:PT1H
BEGIN:VTIMEZONE
TZID:America/New_York
BEGIN:DAYLIGHT
TZOFFSETFROM:-0500
TZOFFSETTO:-0400
TZNAME:EDT
DTSTART:20230312T070000
END:DAYLIGHT
BEGIN:STANDARD
TZOFFSETFROM:-0400
TZOFFSETTO:-0500
TZNAME:EST
DTSTART:20231105T060000
END:STANDARD
BEGIN:DAYLIGHT
TZOFFSETFROM:-0500
TZOFFSETTO:-0400
TZNAME:EDT
DTSTART:20240310T070000
END:DAYLIGHT
BEGIN:STANDARD
TZOFFSETFROM:-0400
TZOFFSETTO:-0500
TZNAME:EST
DTSTART:20241103T060000
END:STANDARD
BEGIN:DAYLIGHT
TZOFFSETFROM:-0500
TZOFFSETTO:-0400
TZNAME:EDT
DTSTART:20250309T070000
END:DAYLIGHT
BEGIN:STANDARD
TZOFFSETFROM:-0400
TZOFFSETTO:-0500
TZNAME:EST
DTSTART:20251102T060000
END:STANDARD
END:VTIMEZONE
BEGIN:VEVENT
DTSTART;TZID=America/New_York:20240115T180000
DTEND;TZID=America/New_York:20240415T213000
DTSTAMP:20260425T204212
CREATED:20231127T190113Z
LAST-MODIFIED:20231127T190823Z
UID:5373-1705341600-1713216600@tbs.edu
SUMMARY:Winter 2024 Night School
DESCRIPTION:TBS Winter 2024 Night School Classes \n\nGreek Grammar II – Dr. Joel Barker (Starting January 15)\nHeresies of the Church – Dr. Tony Costa (Starting January 15)\nLife of Christ – Dr. Pierre Constant (Starting January 16)\nThe Book of Romans – Principal Kirk Wellum (Starting January 18)\n\n 
URL:https://tbs.edu/event/2024-winter-night-school/
ATTACH;FMTTYPE=image/jpeg:https://tbs.edu/wp-content/uploads/2023/11/Winter-2024.jpg
END:VEVENT
BEGIN:VEVENT
DTSTART;TZID=America/New_York:20240326T110000
DTEND;TZID=America/New_York:20240326T121500
DTSTAMP:20260425T204212
CREATED:20231217T144359Z
LAST-MODIFIED:20231217T144359Z
UID:5391-1711450800-1711455300@tbs.edu
SUMMARY:Pray for Pastors
DESCRIPTION:Please join us for a special chapel service on March 26\, 2024 at 11am. We will be holding a prayer meeting to pray for pastors. We are praying for current pastors\, and their churches\, and we are asking the Lord to raise up more pastors to take on the call of ministry across our country and around the world. \nThe prayer meeting will be held in person in our Greenway Chapel and online. Email info@tbs.edu for the link. \n 
URL:https://tbs.edu/event/pray-for-pastors-2/
END:VEVENT
END:VCALENDAR