BEGIN:VCALENDAR
VERSION:2.0
PRODID:-//Toronto Baptist Seminary - ECPv6.15.20//NONSGML v1.0//EN
CALSCALE:GREGORIAN
METHOD:PUBLISH
X-WR-CALNAME:Toronto Baptist Seminary
X-ORIGINAL-URL:https://tbs.edu
X-WR-CALDESC:Events for Toronto Baptist Seminary
REFRESH-INTERVAL;VALUE=DURATION:PT1H
X-Robots-Tag:noindex
X-PUBLISHED-TTL:PT1H
BEGIN:VTIMEZONE
TZID:America/New_York
BEGIN:DAYLIGHT
TZOFFSETFROM:-0500
TZOFFSETTO:-0400
TZNAME:EDT
DTSTART:20220313T070000
END:DAYLIGHT
BEGIN:STANDARD
TZOFFSETFROM:-0400
TZOFFSETTO:-0500
TZNAME:EST
DTSTART:20221106T060000
END:STANDARD
BEGIN:DAYLIGHT
TZOFFSETFROM:-0500
TZOFFSETTO:-0400
TZNAME:EDT
DTSTART:20230312T070000
END:DAYLIGHT
BEGIN:STANDARD
TZOFFSETFROM:-0400
TZOFFSETTO:-0500
TZNAME:EST
DTSTART:20231105T060000
END:STANDARD
BEGIN:DAYLIGHT
TZOFFSETFROM:-0500
TZOFFSETTO:-0400
TZNAME:EDT
DTSTART:20240310T070000
END:DAYLIGHT
BEGIN:STANDARD
TZOFFSETFROM:-0400
TZOFFSETTO:-0500
TZNAME:EST
DTSTART:20241103T060000
END:STANDARD
END:VTIMEZONE
BEGIN:VEVENT
DTSTART;VALUE=DATE:20230515
DTEND;VALUE=DATE:20230603
DTSTAMP:20260423T034325
CREATED:20230316T163512Z
LAST-MODIFIED:20230316T163627Z
UID:3163-1684108800-1685750399@tbs.edu
SUMMARY:Spring/Summer Semester Begins
DESCRIPTION:Summer Courses – Toronto Baptist Seminary (tbs.edu)
URL:https://tbs.edu/event/spring-summer-semester-begins-2/
LOCATION:Jarvis Street Baptist Church\, 130 Gerrard St E\, Toronto\, ON\, M5A 3T4\, Canada
ATTACH;FMTTYPE=image/png:https://tbs.edu/wp-content/uploads/2023/03/Summer2023.png
END:VEVENT
END:VCALENDAR