BEGIN:VCALENDAR
VERSION:2.0
PRODID:-//Toronto Baptist Seminary - ECPv6.15.20//NONSGML v1.0//EN
CALSCALE:GREGORIAN
METHOD:PUBLISH
X-WR-CALNAME:Toronto Baptist Seminary
X-ORIGINAL-URL:https://tbs.edu
X-WR-CALDESC:Events for Toronto Baptist Seminary
REFRESH-INTERVAL;VALUE=DURATION:PT1H
X-Robots-Tag:noindex
X-PUBLISHED-TTL:PT1H
BEGIN:VTIMEZONE
TZID:America/New_York
BEGIN:DAYLIGHT
TZOFFSETFROM:-0500
TZOFFSETTO:-0400
TZNAME:EDT
DTSTART:20220313T070000
END:DAYLIGHT
BEGIN:STANDARD
TZOFFSETFROM:-0400
TZOFFSETTO:-0500
TZNAME:EST
DTSTART:20221106T060000
END:STANDARD
BEGIN:DAYLIGHT
TZOFFSETFROM:-0500
TZOFFSETTO:-0400
TZNAME:EDT
DTSTART:20230312T070000
END:DAYLIGHT
BEGIN:STANDARD
TZOFFSETFROM:-0400
TZOFFSETTO:-0500
TZNAME:EST
DTSTART:20231105T060000
END:STANDARD
BEGIN:DAYLIGHT
TZOFFSETFROM:-0500
TZOFFSETTO:-0400
TZNAME:EDT
DTSTART:20240310T070000
END:DAYLIGHT
BEGIN:STANDARD
TZOFFSETFROM:-0400
TZOFFSETTO:-0500
TZNAME:EST
DTSTART:20241103T060000
END:STANDARD
END:VTIMEZONE
BEGIN:VEVENT
DTSTART;TZID=America/New_York:20230109T090000
DTEND;TZID=America/New_York:20230113T160000
DTSTAMP:20260423T160838
CREATED:20221125T180931Z
LAST-MODIFIED:20221125T180931Z
UID:2154-1673254800-1673625600@tbs.edu
SUMMARY:Stephen Wellum J-Term Course
DESCRIPTION:Dr. Stephen Wellum will be teaching a J-term course called Christian Faith and Contemporary Culture from Jan 9-13. Email registrar@tbs.edu to enrol. 
URL:https://tbs.edu/event/stephen-wellum-j-term-course/
ATTACH;FMTTYPE=image/jpeg:https://tbs.edu/wp-content/uploads/2022/11/WellumJTerm2023-scaled.jpg
END:VEVENT
END:VCALENDAR