BEGIN:VCALENDAR
VERSION:2.0
PRODID:-//Toronto Baptist Seminary - ECPv6.15.20//NONSGML v1.0//EN
CALSCALE:GREGORIAN
METHOD:PUBLISH
X-ORIGINAL-URL:https://tbs.edu
X-WR-CALDESC:Events for Toronto Baptist Seminary
REFRESH-INTERVAL;VALUE=DURATION:PT1H
X-Robots-Tag:noindex
X-PUBLISHED-TTL:PT1H
BEGIN:VTIMEZONE
TZID:America/New_York
BEGIN:DAYLIGHT
TZOFFSETFROM:-0500
TZOFFSETTO:-0400
TZNAME:EDT
DTSTART:20210314T070000
END:DAYLIGHT
BEGIN:STANDARD
TZOFFSETFROM:-0400
TZOFFSETTO:-0500
TZNAME:EST
DTSTART:20211107T060000
END:STANDARD
BEGIN:DAYLIGHT
TZOFFSETFROM:-0500
TZOFFSETTO:-0400
TZNAME:EDT
DTSTART:20220313T070000
END:DAYLIGHT
BEGIN:STANDARD
TZOFFSETFROM:-0400
TZOFFSETTO:-0500
TZNAME:EST
DTSTART:20221106T060000
END:STANDARD
BEGIN:DAYLIGHT
TZOFFSETFROM:-0500
TZOFFSETTO:-0400
TZNAME:EDT
DTSTART:20230312T070000
END:DAYLIGHT
BEGIN:STANDARD
TZOFFSETFROM:-0400
TZOFFSETTO:-0500
TZNAME:EST
DTSTART:20231105T060000
END:STANDARD
END:VTIMEZONE
BEGIN:VEVENT
DTSTART;VALUE=DATE:20220516
DTEND;VALUE=DATE:20220517
DTSTAMP:20260425T215931
CREATED:20220419T214847Z
LAST-MODIFIED:20220419T214853Z
UID:1722-1652659200-1652745599@tbs.edu
SUMMARY:Spring/Summer Semester Begins
DESCRIPTION:
URL:https://tbs.edu/event/spring-summer-semester-begins/
LOCATION:Jarvis Street Baptist Church\, 130 Gerrard St E\, Toronto\, ON\, M5A 3T4\, Canada
ATTACH;FMTTYPE=image/jpeg:https://tbs.edu/wp-content/uploads/2022/02/naassom-azevedo-Q_Sei-TqSlc-unsplash.jpg
END:VEVENT
END:VCALENDAR